BEGIN:VCALENDAR
VERSION:2.0
PRODID:-//BAL-GÖÇ - Balkan Göçmenleri Kültür ve Dayanışma Derneği - ECPv6.15.20//NONSGML v1.0//EN
CALSCALE:GREGORIAN
METHOD:PUBLISH
X-ORIGINAL-URL:https://balgoc.org.tr
X-WR-CALDESC:BAL-GÖÇ - Balkan Göçmenleri Kültür ve Dayanışma Derneği için etkinlikler
REFRESH-INTERVAL;VALUE=DURATION:PT1H
X-Robots-Tag:noindex
X-PUBLISHED-TTL:PT1H
BEGIN:VTIMEZONE
TZID:Europe/Moscow
BEGIN:STANDARD
TZOFFSETFROM:+0300
TZOFFSETTO:+0300
TZNAME:MSK
DTSTART:20240101T000000
END:STANDARD
END:VTIMEZONE
BEGIN:VEVENT
DTSTART;TZID=Europe/Moscow:20251016T080000
DTEND;TZID=Europe/Moscow:20251017T170000
DTSTAMP:20260424T005644
CREATED:20251014T130014Z
LAST-MODIFIED:20251014T190736Z
UID:33577-1760601600-1760720400@balgoc.org.tr
SUMMARY:“Türkiye-Bulgaristan İlişkilerinin 100. Yılında Balkanlar'a Sosyal Bilimler Çerçevesinde Bir Bakış” Sempozyumu
DESCRIPTION:Bursa Balkan Göçmenleri Kültür ve Dayanışma Derneği (BAL-GÖÇ) ve Yurtdışı Türkler ve Akraba Topluluklar Başkanlığı (YTB) iş birliğinde Balkanların sosyal bilimlerin farklı boyutlarıyla inceleneceği bir sempozyum 16-17 Ekim 2025 tarihinde Bursa’da gerçekleştirilecektir. \nBalkanlarda yüzlerce yıl süren Osmanlı Devlet hâkimiyetinin sona ermesinin ardından bölgede yaşayan Türk ve Müslümanlar için pek çok sorun baş göstermiştir. Bu sorunların ana noktasını genellikle bireylerin etnik ve dini kimliği üzerinde kendini gösteren baskılar ve asimilasyon politikaları oluşturmuştur. Bölgede yeni kurulan devletlerin büyük kısmı söz konusu politikaları sistematik ve sonuç almaya odaklı şekilde hayata geçirmiş\, buna direnç gösteren Türkleri ya öldürmüş\, ya siyasi gerekçelerle tutuklamış ya da sınır dışı etmiştir. Özellikle 1990’lı yılların başında Varşova Paktı’nın dağılması ve Avrupa’daki ikili siyasi yapının son bulması neticesinde Türklere yönelik bu politikalar ifşa olmuştur. Nitekim söz konusu politikalar yüzbinlerce Türk ve Müslüman’ın bulundukları ülkelerden göç etmesine yol açmıştır. Bugün Türkiye’nin birçok ilinde Balkanların çeşitli yerlerinden Türkiye’ye göç etmiş vatandaşlarımız bulunmaktadır. Yakın tarihte dahi yaşanan pek çok acı dolu olay hafızalardaki yerini korurken; olayların tanığı olmuş on binlerce insan hayattadır. Buna rağmen yaşanan bu olayların akademik yazında yeteri kadar ilgi gördüğünü söyleyebilmek güçtür. Oysaki Balkan ülkelerinde yaşayan Türk ve Müslümanların azınlık hakları açısından çeşitli sorunları bulunmaktadır. Üstelik tarihi ve coğrafi olarak yakınlığımız olan bu ülkelerle geliştirdiğimiz ekonomik ve sosyal ilişkiler de söz konusudur. Bu nedenle Türkiye’nin Balkan ülkeleri ve Balkanlarda yaşayan Türk ve Müslüman halklar ile olan ilişkileri daha fazla ilgi görmeyi hak etmektedir. \nTürkiye Cumhuriyeti Devleti’nin aslında daha en başından bu vizyona sahip olduğu ifade edilebilir. Nitekim o tarihlerde yeni kurulmuş bir Devlet olan Türkiye ile Bulgaristan Devleti arasında\, ilişkilerin mihenk taşı olarak da nitelendirilebilecek\, 18 Ekim 1925 tarihli bir Dostluk Antlaşması imzalanmıştır. Tam adı “Türkiye İle Bulgaristan Arasında Mün’akid Muhadenet Muahedenamesi” olan bu Antlaşmada taraflar arasında siyasi\, sosyal\, ekonomik ve kültürel anlamda iyi ilişkiler geliştirilmesi öngörülürken; Bulgaristan’da yerleşmiş Türklerin azınlık olarak haklarının korunması ve garanti altına alınması taahhüt edilmiştir. Ancak ilerleyen yıllarda bu Antlaşma ve getirdiği yükümlülüklerden fazlasıyla uzaklaşılmıştır. \nİçinde bulunduğumuz 2025 yılı Türkiye-Bulgaristan arasındaki Dostluk Antlaşmasının yüzüncü yılıdır. Ayrıca sempozyumun tarihi de bu Antlaşmanın yüzüncü yıl dönümüne denk gelmektedir. Bu nedenle  “Türkiye-Bulgaristan Dostluk Antlaşması” bu sempozyumun ana teması olarak belirlenmiştir. Sempozyum\, 1925 Türkiye-Bulgaristan Dostluk Antlaşması’nın 100. yılı vesilesiyle iki ülke arasındaki ilişkilerin tarihsel ve güncel boyutlarını sosyal bilimler perspektifinden ele almayı amaçlamaktadır. Nitekim Türkiye-Bulgaristan ilişkilerinin derinleşmesi\, bölgesel barış ve işbirliği açısından stratejik bir öneme sahiptir. \nÖte yandan sempozyum Balkanları inceleyen diğer sosyal bilimler alanındaki çalışmalara da açıktır. Bu sempozyumda Balkanlardan gerçekleşen göçlerin tarihi perspektifi\, göç ve göçün travmaları (kuşaklar arası psikolojik aktarımı gibi)\, göçün sosyal ve ekonomik etkileri\, Türklere yönelik asimilasyon politikaları\, Türklerin dini ve kültürel hakları\, Türkiye ve Balkan ülkeleri arasındaki ekonomik ilişkiler ve bu ilişkilerde Balkan Türklerinin rolü gibi konu başlıklarının tartışılması hedeflenmektedir. \nSempozyum Balkan Türklerinin yoğun bir nüfusa sahip olduğu Bursa’da gerçekleştirilecektir. Sempozyumda bildiri sunmak isteyen katılımcıların konaklama ve yurtiçi ulaşım giderleri sempozyum organizasyonu tarafından karşılanacak olup\, herhangi bir katılım ücreti alınmayacaktır. En az 300 en çok da 350 kelimeden oluşacak bildiri özetlerinin (yazarın çalıştığı kurum ve iletişim bilgileri de eklenerek) en geç 10 Ekim 2025 tarihine kadar semihsen@uludag.edu.tr adresine iletilmesi gerekmektedir. Kabul edilen bildirilerin katılımcılara duyurulması 11 Ekim 2025 tarihinde yapılacaktır. Sempozyum sonrası tam metinlerin gönderilmesi etkinlik sırasında yapılacak tartışmaların da ilave edilmesi açısından 01 Aralık 2025 tarihidir. Sempozyum bildiri kitabının 31 Aralık 2025’e kadar basılması planlanmaktadır. \nSEMPOZYUM PROGRAMI \n			\n				\n					\n						\n							\n							Loading...\n						\n					\n					\n						\n							\n							Taking too long?\n						\n						\n								 Reload document							\n							|\n							\n								 Open in new tab							\n					\n				\n			\n		Download [11.04 MB]
URL:https://balgoc.org.tr/etkinlik/turkiye-bulgaristan-iliskilerinin-100-yilinda-balkanlara-sosyal-bilimler-cercevesinde-bir-bakis-sempozyumu
CATEGORIES:Sempozyum
ATTACH;FMTTYPE=image/jpeg:https://balgoc.org.tr/wp-content/uploads/2025/09/IMG-20251010-WA0014.jpg
END:VEVENT
END:VCALENDAR