BEGIN:VCALENDAR
VERSION:2.0
PRODID:-//BAL-GÖÇ - Balkan Göçmenleri Kültür ve Dayanışma Derneği - ECPv6.15.20//NONSGML v1.0//EN
CALSCALE:GREGORIAN
METHOD:PUBLISH
X-WR-CALNAME:BAL-GÖÇ - Balkan Göçmenleri Kültür ve Dayanışma Derneği
X-ORIGINAL-URL:https://balgoc.org.tr
X-WR-CALDESC:BAL-GÖÇ - Balkan Göçmenleri Kültür ve Dayanışma Derneği için etkinlikler
REFRESH-INTERVAL;VALUE=DURATION:PT1H
X-Robots-Tag:noindex
X-PUBLISHED-TTL:PT1H
BEGIN:VTIMEZONE
TZID:Europe/Moscow
BEGIN:STANDARD
TZOFFSETFROM:+0300
TZOFFSETTO:+0300
TZNAME:MSK
DTSTART:20230101T000000
END:STANDARD
END:VTIMEZONE
BEGIN:VEVENT
DTSTART;TZID=Europe/Moscow:20241212T080000
DTEND;TZID=Europe/Moscow:20241213T170000
DTSTAMP:20260422T221250
CREATED:20241205T063021Z
LAST-MODIFIED:20241205T193834Z
UID:30172-1733990400-1734109200@balgoc.org.tr
SUMMARY:Bulgaristan'dan Yapılan Zorunlu Göçün 35. Yıldönümünde "Göçün Etkileri" Sempozyumu
DESCRIPTION:Çağrı Metni için tıklayınız. \n\nYazım Kuralları için tıklayınız. \n\nSEMPOZYUM PROGRAMI için tıklayınız. \n\nÖNEMLİ TARİHLER \nBildiri Özet Metni Gönderim Son Tarihi : 13 Kasım 2024\nKabul Edilen Bildirilerin İlan Tarihi : 15 Kasım 2024\nSempozyum Programı İlan Tarihi : 5 Aralık 2024\nSempozyum Tarihi : 12-13 Aralık 2024\nTam Metinlerin Son Gönderim Tarihi : 31 Aralık 2024 \n\nDÜZENLEME KURULU \nProf. Dr. Emin BALKAN (Bursa Uludağ Üniversitesi/Düzenleme Kurulu Başkanı)\nProf. Dr. Adnan GERÇEK (Bursa Uludağ Üniversitesi)\nProf. Dr. Hatice ŞAHİN (Bursa Uludağ Üniversitesi)\nProf. Dr. Şirin AKBULUT DEMİRCİ (Bursa Uludağ Üniversitesi)\nDoç. Dr. Nuri KORKMAZ (Bursa Teknik Üniversitesi)\nDoç. Dr. Zerrin FIRAT (Bursa Uludağ Üniversitesi)\nDr. Öğr. Üyesi Semih ŞEN (Bursa Uludağ Üniversitesi)\nÖğr. Gör. Gürhan KORMAZ (Bursa Uludağ Üniversitesi)\nBanu GÖLCÜKLÜ (Bursa Uludağ Üniversitesi)\nRamazan ÇAVUŞOĞLU (Bursa Uludağ Üniversitesi) \n\nBİLİM KURULU \nProf. Dr. Adnan GERÇEK (Bursa Uludağ Üniversitesi)\nProf. Dr. Emin BALKAN (Bursa Uludağ Üniversitesi)\nProf. Dr. Hatice ŞAHİN (Bursa Uludağ Üniversitesi)\nProf. Dr. Kamuran REÇBER (Bursa Uludağ Üniversitesi)\nProf. Dr. Şirin AKBULUT DEMİRCİ (Bursa Uludağ Üniversitesi)\nDoç. Dr. Hacer KARABAĞ ARSLAN (Bursa Uludağ Üniversitesi)\nDoç. Dr. Mustafa Berkay AYDIN (Bursa Uludağ Üniversitesi)\nDoç. Dr. Nuri KORKMAZ (Bursa Teknik Üniversitesi)\nDoç. Dr. Zerrin FIRAT (Bursa Uludağ Üniversitesi)\nDr. Öğr. Üyesi Semih ŞEN (Bursa Uludağ Üniversitesi)\nÖğr. Gör. Gürhan KORMAZ (Bursa Uludağ Üniversitesi) \n\nSEKRETERYA \nBanu GÖLCÜKLÜ\nFatma GÜNGÖRDÜ\nRamazan ÇAVUŞOĞLU
URL:https://balgoc.org.tr/etkinlik/bulgaristandan-yapilan-zorunlu-gocun-35-yildonumunde-gocun-etkileri-sempozyumu
CATEGORIES:Sempozyum
ATTACH;FMTTYPE=image/jpeg:https://balgoc.org.tr/wp-content/uploads/2024/12/sempozyum-prg_page-0001.jpg
END:VEVENT
END:VCALENDAR