BEGIN:VCALENDAR
VERSION:2.0
PRODID:-//BAL-GÖÇ - Balkan Göçmenleri Kültür ve Dayanışma Derneği - ECPv6.15.20//NONSGML v1.0//EN
CALSCALE:GREGORIAN
METHOD:PUBLISH
X-ORIGINAL-URL:https://balgoc.org.tr
X-WR-CALDESC:BAL-GÖÇ - Balkan Göçmenleri Kültür ve Dayanışma Derneği için etkinlikler
REFRESH-INTERVAL;VALUE=DURATION:PT1H
X-Robots-Tag:noindex
X-PUBLISHED-TTL:PT1H
BEGIN:VTIMEZONE
TZID:Europe/Moscow
BEGIN:STANDARD
TZOFFSETFROM:+0300
TZOFFSETTO:+0300
TZNAME:MSK
DTSTART:20240101T000000
END:STANDARD
END:VTIMEZONE
BEGIN:VEVENT
DTSTART;TZID=Europe/Moscow:20250516T080000
DTEND;TZID=Europe/Moscow:20250516T170000
DTSTAMP:20260421T123628
CREATED:20250416T132545Z
LAST-MODIFIED:20250416T132743Z
UID:31563-1747382400-1747414800@balgoc.org.tr
SUMMARY:19 Mayıs’ı Hep Birlikte Selanik’te Karşılıyoruz
DESCRIPTION:16 MAYIS – 19 MAYIS 2025 – YUNANİSTAN TURU\n(KALAMBAKA/METEORA – SELANİK – KAVALA –İSKEÇE – GÜMÜLCİNE – DEDEAĞAÇ)\n( 2 Gece Otel Konaklamalı )\nTÜM TURLAR DAHİL 195 EURO\n* BU TUR BAL-GÖÇ ADINA MİRATUS TURİZM TARAFINDAN ORGANİZE EDİLMEKTEDİR. *\nTUR HAREKET AKŞAMI : Bursa – İpsala\nSaat:20.30’da derneğimizin önünde buluşma ve hareket. Biga\, Lapseki\, Gelibolu\, Keşan üzerinden aralıklı molalar vererek İpsala sınır kapısına ulaşıyoruz. Pasaport ve gümrük işlemlerin ardından Yunanistan’a geçiyoruz.\n1. Gün\nİpsala-Nea Karvali-Kalambaka\nDedeağaç (Aleksandroupoli)\, Gümülcine (Komotini)\, İskeçe (Ksanthi) hattında ilerleyerek\, Kavala’nın kurabiyeleriyle ünlü Nea Karvali kasabasına geliyor ve kahvaltı için mola veriyoruz. Kahvaltı molamız sonrasında “Yunanistan’ın Kapadokya’sı” olarak tanımlanan Kalambaka-Meteora bölgesine doğru muhteşem bir doğa manzarası eşliğinde yolumuza devam ediyoruz. Tesalya Ovası’nın kuzeyinde bulunan METEORA’ya varıyoruz. Deniz dibindeki yığılmalardan\, denizin çekilmesiyle oluşan “şahin kayası” tarzı tepelere kurulmuş olan ve rahiplerin bugün de yaşadığı\, ortaçağ dönemine ait görkemli Ortodoks manastırlarının bulunduğu bölgede\, tarihi ve manastır yaşamı hakkındaki bilgiler eşliğinde\, koşullara bağlı olarak bir ya da iki manastır ziyaret ediyoruz. Tüm bölgeyi otobüs ile gezerek; masallardan fırlamış izlenimi yaratan coğrafyasının tadını çıkaracağımız fotoğraf molaları vererek turumuzu tamamlıyor ve METEORA’nın eteklerinde kurulu şirin Kalambaka kentini gördükten sonra otele yerleşiyoruz ve serbest zaman.\n2. Gün\nKalambaka-Selanik\nOtelimizde alacağımız sabah kahvaltısının ardından\, Selanik yönünde yolumuza devam ediyoruz. Keyifli bir yolculuğun ardından Selanik’e ulaşıyoruz ve şehir turumuza başlıyoruz. Venizelos Heykeli\, Bedesten\, Hamza Bey Camii\, Osmanlı dönemi hükümet konağı\, Aziz Dimitri Kilisesi’ni görerek\, Atatürk’ün Evi’ni ziyaret ediyoruz. Panoramik şehir turumuzda Hamidiye Hastanesi\, Osmanlı döneminin ilk jandarma süvari okulu\, Aristoteles Üniversitesi\, Şadırvan\, Rotonda\, Galerios’un Zafer Takı\, Osmanlı Gümrük Binası\, Aristoteles Meydanı’nı görerek\, kentin sembol yapısı olan Beyaz Kule’de fotoğraf molası veriyoruz. Tarihi şehrin zengin bölgelerindeki neoklasik konak ve malikâneleri önünde fotoğraflarımızı çektirdikten sonra şehir merkezindeki otelimize yerleşiyoruz. Ardından serbest zaman.\n3. Gün\nSelanik-Kavala-İskeçe-Gümülcine-Dedeağaç-İpsala\nOtelimizde alacağımız kahvaltı sonrasında yola çıkıyoruz; Kavala’ya ulaşıyoruz ve kısa yürüyüş turumuza başlıyoruz. Burada liman\, su kemerleri\, İbrahim Paşa Camii\, 19. yy. Neo Klasik yapıları\, İmarethane\, Kavalalı Mehmet Ali Paşa Evi ve Heykelini rehberimizin bilgilendirmeleri eşliğinde görerek\, alışveriş ve fotoğraf için serbest zaman veriyoruz. Kavala turumuzun ardından tekrar yola çıkıyoruz İskeçe ve sonrasında Gümülcine’ye ulaşıyoruz. Saat Kulesi\, Eski Cami\, Yeni Cami\, Gazi Evrenos Bey İmareti\, şehir meydanını gördükten sonra panoramik Dedeağaç turumuzu yapıyoruz. Dönüş yolculuğu için hareket ediyor ve İpsala sınır kapısı üzerinden yolumuza devam ediyoruz\, Bursa’ya varış ve turumuzun sonu.\nFiyata Dahil Olan Hizmetler :\n– Hijyen ve Sosyal Mesafe Kurallarına Uygun Lüks Araçlar ile Ulaşım ve Programdaki Turlar\,\n– 3-4* Otellerde 2 Gece Konaklama\,\n– Otellerde Alınacak 2 Sabah Kahvaltısı\,\n– Tüm Konaklama ve Turist Vergileri\,\n– Ülke Giriş Ücretleri ve Gümrük Vergileri\,\n– Programda Belirtilen Tüm Turlar\,\n– MİRATUS TURİZM Türkçe Rehberlik Hizmetleri\, Lokal Rehberlik\,\n– MİRATUS TURİZM Güvence Paketi.\nFiyata Dahil Olmayan Hizmetler :\n– Vize ve Servis Hizmet Bedeli (Vizesi Olanlar ve Yeşil Pasaportlular İçin Vize Gerekmemektedir.)\,\n– Yurtdışı Çıkış Harç Bedeli – Misafirler Tarafından İlgili Bankalara Pasaport Numarası ile Yatırılır\,\n– Müze ve Ören Yeri\, Milli Park Giriş Ücretleri\,\n– Öğle ve Akşam Yemekleri ile İçecekler\,\n– Her Türlü Otel Ekstraları\,\n– 65 Yaş Üzeri Yolcular İçin Ek Sürprim Sigorta Farkı\,\n– Yurtdışı Seyahat Sağlık Sigortası.\nİKİ KİŞİLİK ODADA KİŞİ BAŞI ​​​195 €\nTEK KİŞİLİK ODADA ​ 285 €\nİKİ YETİŞKİN YANINDA 1 ÇOCUK (0-11\,99) 145 €\nBilgi ve Kayıt İçin :\n+ 90 505 573 49 42 nolu telefondan Miratus Turizm’e direkt kaydınızı yaptırabilirsiniz\nya da\n+ 90 224 240 11 11 nolu telefonumuzdan genel merkezimize ya da facebook ve instagramdan mesaj ile; isminizi ve telefon numaranızı bildirmeniz durumunda Turizm Komisyonu Üyelerimiz sizlerle irtibata geçecektir.
URL:https://balgoc.org.tr/etkinlik/19-mayisi-hep-birlikte-selanikte-karsiliyoruz
CATEGORIES:Tur
ATTACH;FMTTYPE=image/jpeg:https://balgoc.org.tr/wp-content/uploads/2025/04/492012341_1083427820474993_1848925045991378095_n.jpg
END:VEVENT
END:VCALENDAR