BEGIN:VCALENDAR
VERSION:2.0
PRODID:-//BAL-GÖÇ - Balkan Göçmenleri Kültür ve Dayanışma Derneği - ECPv6.15.20//NONSGML v1.0//EN
CALSCALE:GREGORIAN
METHOD:PUBLISH
X-WR-CALNAME:BAL-GÖÇ - Balkan Göçmenleri Kültür ve Dayanışma Derneği
X-ORIGINAL-URL:https://balgoc.org.tr
X-WR-CALDESC:BAL-GÖÇ - Balkan Göçmenleri Kültür ve Dayanışma Derneği için etkinlikler
REFRESH-INTERVAL;VALUE=DURATION:PT1H
X-Robots-Tag:noindex
X-PUBLISHED-TTL:PT1H
BEGIN:VTIMEZONE
TZID:Europe/Moscow
BEGIN:STANDARD
TZOFFSETFROM:+0300
TZOFFSETTO:+0300
TZNAME:MSK
DTSTART:20240101T000000
END:STANDARD
END:VTIMEZONE
BEGIN:VEVENT
DTSTART;VALUE=DATE:20250407
DTEND;VALUE=DATE:20250417
DTSTAMP:20260421T205040
CREATED:20250406T181110Z
LAST-MODIFIED:20250406T181121Z
UID:31501-1743984000-1744847999@balgoc.org.tr
SUMMARY:12. Uluslararası Balkan Ülkeleri Tiyatro Festivali
DESCRIPTION:
URL:https://balgoc.org.tr/etkinlik/12-uluslararasi-balkan-ulkeleri-tiyatro-festivali
CATEGORIES:Festival
ATTACH;FMTTYPE=image/jpeg:https://balgoc.org.tr/wp-content/uploads/2025/04/FB_IMG_1743838092824.jpg
END:VEVENT
END:VCALENDAR