BEGIN:VCALENDAR
VERSION:2.0
PRODID:-//BAL-GÖÇ - Balkan Göçmenleri Kültür ve Dayanışma Derneği - ECPv6.15.20//NONSGML v1.0//EN
CALSCALE:GREGORIAN
METHOD:PUBLISH
X-ORIGINAL-URL:https://balgoc.org.tr
X-WR-CALDESC:BAL-GÖÇ - Balkan Göçmenleri Kültür ve Dayanışma Derneği için etkinlikler
REFRESH-INTERVAL;VALUE=DURATION:PT1H
X-Robots-Tag:noindex
X-PUBLISHED-TTL:PT1H
BEGIN:VTIMEZONE
TZID:Europe/Moscow
BEGIN:STANDARD
TZOFFSETFROM:+0300
TZOFFSETTO:+0300
TZNAME:MSK
DTSTART:20240101T000000
END:STANDARD
END:VTIMEZONE
BEGIN:VEVENT
DTSTART;TZID=Europe/Moscow:20250331T080000
DTEND;TZID=Europe/Moscow:20250402T170000
DTSTAMP:20260421T210821
CREATED:20250328T052514Z
LAST-MODIFIED:20250328T052550Z
UID:31216-1743408000-1743613200@balgoc.org.tr
SUMMARY:31 Mart – 2 Nisan Bulgaristan Filibe Turu
DESCRIPTION:
URL:https://balgoc.org.tr/etkinlik/31-mart-2-nisan-bulgaristan-filibe-turu
CATEGORIES:Tur
ATTACH;FMTTYPE=image/jpeg:https://balgoc.org.tr/wp-content/uploads/2025/03/FB_IMG_1742935048481.jpg
END:VEVENT
END:VCALENDAR