BEGIN:VCALENDAR
VERSION:2.0
PRODID:-//BAL-GÖÇ - Balkan Göçmenleri Kültür ve Dayanışma Derneği - ECPv6.15.20//NONSGML v1.0//EN
CALSCALE:GREGORIAN
METHOD:PUBLISH
X-ORIGINAL-URL:https://balgoc.org.tr
X-WR-CALDESC:BAL-GÖÇ - Balkan Göçmenleri Kültür ve Dayanışma Derneği için etkinlikler
REFRESH-INTERVAL;VALUE=DURATION:PT1H
X-Robots-Tag:noindex
X-PUBLISHED-TTL:PT1H
BEGIN:VTIMEZONE
TZID:Europe/Moscow
BEGIN:STANDARD
TZOFFSETFROM:+0300
TZOFFSETTO:+0300
TZNAME:MSK
DTSTART:20240101T000000
END:STANDARD
END:VTIMEZONE
BEGIN:VEVENT
DTSTART;TZID=Europe/Moscow:20250116T180000
DTEND;TZID=Europe/Moscow:20250116T220000
DTSTAMP:20260422T222004
CREATED:20250106T095825Z
LAST-MODIFIED:20250106T095825Z
UID:30327-1737050400-1737064800@balgoc.org.tr
SUMMARY:BAL-GÖÇ 40. Yıl Etkinlikleri
DESCRIPTION:
URL:https://balgoc.org.tr/etkinlik/bal-goc-40-yil-etkinlikleri
CATEGORIES:Panel
ATTACH;FMTTYPE=image/jpeg:https://balgoc.org.tr/wp-content/uploads/2025/01/bd9274a2-79eb-449a-a18b-20ba63b65586.jpg
END:VEVENT
END:VCALENDAR