BEGIN:VCALENDAR
VERSION:2.0
PRODID:-//BAL-GÖÇ - Balkan Göçmenleri Kültür ve Dayanışma Derneği - ECPv6.15.20//NONSGML v1.0//EN
CALSCALE:GREGORIAN
METHOD:PUBLISH
X-WR-CALNAME:BAL-GÖÇ - Balkan Göçmenleri Kültür ve Dayanışma Derneği
X-ORIGINAL-URL:https://balgoc.org.tr
X-WR-CALDESC:BAL-GÖÇ - Balkan Göçmenleri Kültür ve Dayanışma Derneği için etkinlikler
REFRESH-INTERVAL;VALUE=DURATION:PT1H
X-Robots-Tag:noindex
X-PUBLISHED-TTL:PT1H
BEGIN:VTIMEZONE
TZID:Europe/Moscow
BEGIN:STANDARD
TZOFFSETFROM:+0300
TZOFFSETTO:+0300
TZNAME:MSK
DTSTART:20230101T000000
END:STANDARD
END:VTIMEZONE
BEGIN:VEVENT
DTSTART;TZID=Europe/Moscow:20241117T140000
DTEND;TZID=Europe/Moscow:20241117T160000
DTSTAMP:20260423T011221
CREATED:20241111T115518Z
LAST-MODIFIED:20241111T115746Z
UID:29979-1731852000-1731859200@balgoc.org.tr
SUMMARY:Naim Süleymanoğlu Anma Töreni
DESCRIPTION:
URL:https://balgoc.org.tr/etkinlik/naim-suleymanoglu-anma-toreni
CATEGORIES:Tören
ATTACH;FMTTYPE=image/jpeg:https://balgoc.org.tr/wp-content/uploads/2024/11/cf04b390-21ad-4d8a-a856-988116f61571.jpg
END:VEVENT
BEGIN:VEVENT
DTSTART;TZID=Europe/Moscow:20241117T200000
DTEND;TZID=Europe/Moscow:20241117T220000
DTSTAMP:20260423T011221
CREATED:20241111T115329Z
LAST-MODIFIED:20241111T115814Z
UID:29976-1731873600-1731880800@balgoc.org.tr
SUMMARY:Türkülerle Atatürk Konseri
DESCRIPTION:
URL:https://balgoc.org.tr/etkinlik/turkulerle-ataturk-konseri
CATEGORIES:Konser
ATTACH;FMTTYPE=image/jpeg:https://balgoc.org.tr/wp-content/uploads/2024/11/35fc963e-6bb1-4cca-964f-a21d8d10cf47.jpg
END:VEVENT
END:VCALENDAR