BEGIN:VCALENDAR
VERSION:2.0
PRODID:-//BAL-GÖÇ - Balkan Göçmenleri Kültür ve Dayanışma Derneği - ECPv6.15.20//NONSGML v1.0//EN
CALSCALE:GREGORIAN
METHOD:PUBLISH
X-WR-CALNAME:BAL-GÖÇ - Balkan Göçmenleri Kültür ve Dayanışma Derneği
X-ORIGINAL-URL:https://balgoc.org.tr
X-WR-CALDESC:BAL-GÖÇ - Balkan Göçmenleri Kültür ve Dayanışma Derneği için etkinlikler
REFRESH-INTERVAL;VALUE=DURATION:PT1H
X-Robots-Tag:noindex
X-PUBLISHED-TTL:PT1H
BEGIN:VTIMEZONE
TZID:Europe/Moscow
BEGIN:STANDARD
TZOFFSETFROM:+0300
TZOFFSETTO:+0300
TZNAME:MSK
DTSTART:20230101T000000
END:STANDARD
END:VTIMEZONE
BEGIN:VEVENT
DTSTART;TZID=Europe/Moscow:20240923T193000
DTEND;TZID=Europe/Moscow:20240923T193000
DTSTAMP:20260423T222309
CREATED:20240918T074223Z
LAST-MODIFIED:20240918T074437Z
UID:29804-1727119800-1727119800@balgoc.org.tr
SUMMARY:200 Yıllık Acı Mora Katliamı
DESCRIPTION:
URL:https://balgoc.org.tr/etkinlik/200-yillik-aci-mora-katliami
CATEGORIES:Panel
ATTACH;FMTTYPE=image/jpeg:https://balgoc.org.tr/wp-content/uploads/2024/09/Screenshot_20240918-102246_Facebook.jpg
END:VEVENT
END:VCALENDAR