BEGIN:VCALENDAR
VERSION:2.0
PRODID:-//BAL-GÖÇ - Balkan Göçmenleri Kültür ve Dayanışma Derneği - ECPv6.15.20//NONSGML v1.0//EN
CALSCALE:GREGORIAN
METHOD:PUBLISH
X-WR-CALNAME:BAL-GÖÇ - Balkan Göçmenleri Kültür ve Dayanışma Derneği
X-ORIGINAL-URL:https://balgoc.org.tr
X-WR-CALDESC:BAL-GÖÇ - Balkan Göçmenleri Kültür ve Dayanışma Derneği için etkinlikler
REFRESH-INTERVAL;VALUE=DURATION:PT1H
X-Robots-Tag:noindex
X-PUBLISHED-TTL:PT1H
BEGIN:VTIMEZONE
TZID:Europe/Moscow
BEGIN:STANDARD
TZOFFSETFROM:+0300
TZOFFSETTO:+0300
TZNAME:MSK
DTSTART:20230101T000000
END:STANDARD
END:VTIMEZONE
BEGIN:VEVENT
DTSTART;TZID=Europe/Moscow:20240613T203000
DTEND;TZID=Europe/Moscow:20240613T220000
DTSTAMP:20260424T115131
CREATED:20240606T195616Z
LAST-MODIFIED:20240606T195748Z
UID:29196-1718310600-1718316000@balgoc.org.tr
SUMMARY:Gönlümüzden Şarkılar Konseri – Şef Suat AYAN
DESCRIPTION:
URL:https://balgoc.org.tr/etkinlik/gonlumuzden-sarkilar-konseri-sef-suat-ayan
LOCATION:Ataevler Uğur Mumcu Salonu\, Ataevler Mahallesi\, Yılmaz Akkılıç Caddesi Basın Kültür Sarayı Kat:2
CATEGORIES:Konser
ATTACH;FMTTYPE=image/jpeg:https://balgoc.org.tr/wp-content/uploads/2024/06/2024-06-07.jpg
END:VEVENT
END:VCALENDAR