BEGIN:VCALENDAR
VERSION:2.0
PRODID:-//BAL-GÖÇ - Balkan Göçmenleri Kültür ve Dayanışma Derneği - ECPv6.15.20//NONSGML v1.0//EN
CALSCALE:GREGORIAN
METHOD:PUBLISH
X-WR-CALNAME:BAL-GÖÇ - Balkan Göçmenleri Kültür ve Dayanışma Derneği
X-ORIGINAL-URL:https://balgoc.org.tr
X-WR-CALDESC:BAL-GÖÇ - Balkan Göçmenleri Kültür ve Dayanışma Derneği için etkinlikler
REFRESH-INTERVAL;VALUE=DURATION:PT1H
X-Robots-Tag:noindex
X-PUBLISHED-TTL:PT1H
BEGIN:VTIMEZONE
TZID:Europe/Moscow
BEGIN:STANDARD
TZOFFSETFROM:+0300
TZOFFSETTO:+0300
TZNAME:MSK
DTSTART:20230101T000000
END:STANDARD
END:VTIMEZONE
BEGIN:VEVENT
DTSTART;TZID=Europe/Moscow:20240518T070000
DTEND;TZID=Europe/Moscow:20240518T200000
DTSTAMP:20260425T171404
CREATED:20240503T143134Z
LAST-MODIFIED:20240503T143134Z
UID:29019-1716015600-1716062400@balgoc.org.tr
SUMMARY:GÜNÜBİRLİK ESKİŞEHİR TURU  ( 18 Mayıs 2024 - Cumartesi )
DESCRIPTION:GÜNÜBİRLİK ESKİŞEHİR TURU ( 18 Mayıs 2024 – Cumartesi ) ( 775 TL )\n\n\n\nSabah Saat 07.00’da siz değerli misafirlerimiz ile Bursa BAL-GÖÇ Genel Merkez önünde buluşuyor ve Eskişehir yolculuğumuza başlıyoruz.\n\n\n\nİlk durağımız olarak rehberimiz ile birlikte Türkiye’nin tamamen yerli sermaye ile üretilmiş ilk otomobili olan ve üretildiği TÜLOMSAŞ Fabrikasının bahçesinde sergilenen bej renkli devrim arabasını ziyaret edeceğiz. Ardından Yılmaz Büyükerşen’in Eskişehir’e kazandırdığı Balmumu Müzesi’ne geçiyoruz. Dünyanın pek çok ülkesinde bulunan “Madam Tussauds” Müzesi’nin Türkiye’deki ilk örneği olan müzede\, Atatürk’ün çeşitli dönemlerini yansıtan heykeller\, yerli ve yabancı devlet adamları\, sanatçılar\, medya mensupları ve sporcuların balmumundan heykelleri yer almaktadır.\n\n\n\nArdından Eskişehir’in ilk yerleşim yeri olan\, Osmanlı Dönemi’nden kalma tarihi evlerin bulunduğu\, Dünya Kültür Mirası Listesi’nde olan Odun Pazarı’nı gezmeye başlıyoruz. Fotoğraflarımızı çektikten sonra eskiden bir han olarak kullanılan şu an ise çarşı olarak hizmet veren Atlıhan El Sanatları Çarşısı’nı gezip\, Eskişehir’e özgü lületaşından yapılmış ürünleri satın almak için alışveriş molası veriyoruz. Daha sonra Kurşunlu Külliyesi’ni gezmeye başlıyoruz. Lületaşı Müzesi\, El Sanatları Merkezi ve Sıcak Cam Atölyesini gördükten sonra şehir merkezine iniyor\, yemek ile alış-veriş için serbest zaman veriyoruz.\n\nArdından Kentpark ve yine tüm Eskişehir fotoğraflarında görebileceğiniz şehrin nefes almak için kaçış noktalarından biri olan Sazova Bilim Parkı’na geçeceğiz. Burada yapay gölün çevresinde harika fotoğraflar çektirebilir\, verilen serbest zamanda Masal Şatosu\, Bilim Deney Merkezi\, Sabancı Uzay Evi\, Korsan Gemisi ve Eti Sualtı Dünyası’nı gezebilirsiniz.\n\n\n\n\n\nÜCRETE DÂHİL OLAN HİZMETLER :\n\n\n– Gidiş – Dönüş Ulaşım\,\n– TÜRSAB Zorunlu Yurt İçi Seyahat ve Sağlık Sigortası\,\n– Profesyonel Kokartlı Rehberlik Hizmeti\,\n– Programda Belirtilen Tüm Çevre Gezileri\,\n– Araç İçi Su İkramı\,\n– Sevka World Travel Güvencesi.\n\n\n\nÜCRETE DÂHİL OLMAYAN HİZMETLER\n\n\n– Müze ve Ören Yeri Giriş Ücretleri\,\n– Tüm Yemekler\,\n– Tüm Kişisel Harcamalar.\n\n\nNot : Programdaki bütün noktalar gezilmek üzere\, rota/sıralama değiştirilebilir.\n\n\n\nBilgi ve Kayıt İçin ;\n0 224 240 11 11
URL:https://balgoc.org.tr/etkinlik/gunubirlik-eskisehir-turu-18-mayis-2024-cumartesi
CATEGORIES:Tur
ATTACH;FMTTYPE=image/jpeg:https://balgoc.org.tr/wp-content/uploads/2024/05/eskisehir.jpeg
END:VEVENT
END:VCALENDAR