BEGIN:VCALENDAR
VERSION:2.0
PRODID:-//BAL-GÖÇ - Balkan Göçmenleri Kültür ve Dayanışma Derneği - ECPv6.15.20//NONSGML v1.0//EN
CALSCALE:GREGORIAN
METHOD:PUBLISH
X-WR-CALNAME:BAL-GÖÇ - Balkan Göçmenleri Kültür ve Dayanışma Derneği
X-ORIGINAL-URL:https://balgoc.org.tr
X-WR-CALDESC:BAL-GÖÇ - Balkan Göçmenleri Kültür ve Dayanışma Derneği için etkinlikler
REFRESH-INTERVAL;VALUE=DURATION:PT1H
X-Robots-Tag:noindex
X-PUBLISHED-TTL:PT1H
BEGIN:VTIMEZONE
TZID:Europe/Moscow
BEGIN:STANDARD
TZOFFSETFROM:+0300
TZOFFSETTO:+0300
TZNAME:MSK
DTSTART:20230101T000000
END:STANDARD
END:VTIMEZONE
BEGIN:VEVENT
DTSTART;TZID=Europe/Moscow:20240419T080000
DTEND;TZID=Europe/Moscow:20240422T170000
DTSTAMP:20260425T182624
CREATED:20240402T192209Z
LAST-MODIFIED:20240402T192209Z
UID:28833-1713513600-1713805200@balgoc.org.tr
SUMMARY:2 GECE - 3 GÜN FİLİBE TURU ( 19-22 NİSAN 2024 )
DESCRIPTION:TÜM TURLAR ve SABAH KAHVALTILARI+AKŞAM YEMEKLERİ DAHİL 120 EURO\n\n\n1 Gün: BURSA- İSTANBUL-FİLİBE\n19 Nisan Cuma akşamı Saat 23:00’da BAL-GÖÇ Genel Merkez önünde buluşuyor ve hareket ediyoruz\, Edirne üzerinden Kapıkule’ye yolculuk. Ara molalar eşliğinde devam eden yolculuk ile gümrük ve pasaport işlemlerinin ardından Bulgaristan’a giriş ile Filibe’ye hareket. Yaklaşık 2 saat yolculuğun ardından sabah erken saatlerde Filibe’ye varış ve kahvaltı için serbest zaman. Saat 10:00′ da toplanarak Asen Kalesi’ni görmek üzere yola koyuluyoruz. Asen Kalesi Turu sonrası Bachkovo Manastırı’nı görmek için yeniden yola çıkıyoruz. Turumuzun ardından öğle yemeği için serbest zamanımız olacak. Rehberimizin belirleyeceği zamanda hareket için toplanıyoruz. 15:00’da Filibe’de otele yerleşiyoruz. Saat 16:00’da lobimizde buluşma ve şehir turumuza başlıyoruz. Filibe’de Muradiye Camii olarak bilinen Cuma Camii\, Antik Roma Tiyatrosu\, Antik Roma Stadyumu\, Hisar Kapısı\, Ressamlar Sokağı\, Sarı Mektep göreceğimiz yerler arasında. Sonrasında otelimize dönüş.\n\n\nKONAKLAMA ve AKŞAM YEMEĞİ GRAND HOTEL PLOVDİV’DE.\n\n\n2 Gün: FİLİBE\nOtelimizde alacağımız kahvaltının ardından Filibe’de keyifli bir gün geçirmek üzere tam gün serbest zaman. Hotelimiz merkezi konumda olduğu için her yere kolaylıkla ulaşabilir\, alışverişlerinizi yapabilirsiniz.\n\n\nKONAKLAMA ve AKŞAM YEMEĞİ GRAND HOTEL PLOVDİV’DE.\n\n\n3 Gün: FİLİBE-STAROSEL-İSTANBUL-BURSA\nOtelimizde alacağımız kahvaltının ardından Starosel Turu düzenlenecektir. Turumuzun ardından öğle yemeği için serbest zaman ve Saat 14:00’da dönüş yolculuğu için hareket. Kapıkule sınır kapısı üzerinden Edirne’de ciğer molası vererek geri dönüş yolumuza devam ediyoruz. Bursa’ya varış ve turumuzun sonu.\n\n\nFiyata Dahil Olan Hizmetler :\n– Hijyen ve Sosyal Mesafe Kurallarına Uygun Lüks Otobüs İle Ulaşım ve Programdaki Turlar\,\n– 4* Otelde 2 Gece Konaklama\,\n– 4* Otelde 2 Sabah Kahvaltısı\,\n– 4* Otel’de 2 Akşam Yemeği\,\n– Tüm Konaklama ve Turist Vergileri\,\n– Starosel Mahzen Turu\,\n– Bachkovo Manastırı Turu\,\n– Asen Kalesi Turu\,\n– Ülke Giriş Ücretleri ve Gümrük Vergileri\,\n– Otobüsteki İkramlar\,\n– MİRATUS TURİZM Türkçe Rehberlik Hizmetleri\, Lokal Rehberlik\,\n– MİRATUS TURİZM Güvence Paketi.\n\n\nFiyata Dahil Olmayan Hizmetler :\n– Bulgaristan Vize ve Servis Hizmet Bedeli – Tur Misafirlerimize Özel 120 € (Vizesi Olanlar ve Yeşil Pasaportlular İçin Vize Gerekmemektedir.)\,\n– Yurtdışı Çıkış Harç Bedeli – Misafirler Tarafından İlgili Bankalara Pasaport Numarası İle Yatırılır (150 TL)\,\n– Müze ve Ören Yeri\, Milli Park Giriş Ücretleri\,\n– Öğle Yemeği ve İçecekler\,\n– Her Türlü Otel Ekstraları\,\n– 65 Yaş Üzeri Yolcular İçin Ek Sürprim Sigorta Farkı\,\n– Yurtdışı Seyahat Sağlık Sigortas ı- 10 €.\n\n\nİKİ KİŞİLİK ODADA KİŞİ BAŞI 120 €\nTEK KİŞİLİK ODADA 180 €\nİKİ YETİŞKİN YANINDA 1 ÇOCUK (0-11\,99) 95 €\n\n\nBilgi ve Kayıt İçin : + 90 224 240 11 11 nolu telefonumuzdan genel merkezimize ya da facebook ve instagramdan mesaj ile; isminizi ve telefon numaranızı bildirmeniz durumunda Turizm Komisyonu Üyelerimiz sizlerle irtibata geçecektir.
URL:https://balgoc.org.tr/etkinlik/2-gece-3-gun-filibe-turu-19-22-nisan-2024
CATEGORIES:Tur
ATTACH;FMTTYPE=image/jpeg:https://balgoc.org.tr/wp-content/uploads/2024/04/432768647_806238941527217_8864303861319947819_n.jpeg
END:VEVENT
END:VCALENDAR